BEGIN:VCALENDAR
PRODID:-//Session events Calendar//IBA//EN
CALSCALE:GREGORIAN
VERSION:2.0
BEGIN:VEVENT
DTSTAMP:20260422T015903Z
DTSTART:20221103T133000Z
DTEND:20221103T144500Z
SUMMARY:The transfer of criminal liability in M&A
DESCRIPTION:The transfer of criminal liability in the mergers and acquisi
 tions context is a complex issue which can have significant implications
  for the entities involved. The Covid-19 pandemic has seen a rise in M&a
 mp\;A activity\, with due diligence often conducted in haste or in a mor
 e limited way. This session will look at the nature of issues that arise
  and how case law is evolving globally.
LOCATION:Rooms 234\, Level 2
UID:5bf541b0-fda6-4e7d-988e-867129d762fe
END:VEVENT
END:VCALENDAR
