BEGIN:VCALENDAR
PRODID:-//Session events Calendar//IBA//EN
CALSCALE:GREGORIAN
VERSION:2.0
BEGIN:VEVENT
DTSTAMP:20260422T015953Z
DTSTART:20221101T201500Z
DTEND:20221101T213000Z
SUMMARY:SUSTAINABILITY FOCUS  Human rights and criminal prosecution in an
  ESG world
DESCRIPTION:SustainabilityFocusHumanRightsThis session will look at how h
 uman rights breaches feature in criminal enforcement action against corp
 orates. Consideration will be given to the shifting focus from corruptio
 n to human rights. The session will look at how these issues can arise\,
  including supply chain issues\, fraudulent disclosure and climate contr
 ol.\n\nSUSTAINABILITY FOCUS sessions marked as such are part of the IBA 
 Annual Conference 2022 sustainability focus on Tuesday and Thursday\, gr
 ouping sessions discussing different aspects of ESG and sustainability a
 cross the different legal fields.\n
LOCATION:Rooms 201-202\, Level 2
UID:72a0fadd-f9f0-4188-bd92-866b7190eb0e
END:VEVENT
END:VCALENDAR
