BEGIN:VCALENDAR
PRODID:-//Session events Calendar//IBA//EN
CALSCALE:GREGORIAN
VERSION:2.0
BEGIN:VEVENT
DTSTAMP:20260422T015954Z
DTSTART:20221103T151500Z
DTEND:20221103T163000Z
SUMMARY:The importance of anti-corruption due diligence in M&A transactio
 ns
DESCRIPTION:Anti-corruption violations can impact materially the value an
 d appropriateness of M&amp\;A and other transactions. Each potential inv
 estment poses its own unique constellation of anti-corruption and other 
 compliance risks and therefore requires a tailored approach to ensuring 
 appropriate due diligence. This panel will discuss best practices for as
 sessing and mitigating anti-corruption risk in the transactional context
 \, leading to better results for clients.
LOCATION:Room 210\, Level 2
UID:2cfca062-0bce-4359-8114-a4aef9778894
END:VEVENT
END:VCALENDAR
