BEGIN:VCALENDAR
PRODID:-//Session events Calendar//IBA//EN
CALSCALE:GREGORIAN
VERSION:2.0
BEGIN:VEVENT
DTSTAMP:20260422T020027Z
DTSTART:20221101T133000Z
DTEND:20221101T144500Z
SUMMARY:The development of international cooperation in corruption invest
 igations
DESCRIPTION:Cross-border investigations are clearly on the rise. How do c
 ompanies cope with the increased demand to investigate bribery allegatio
 ns and what are the main hurdles they are confronted with? Are the compa
 nies incentivised by local legislation to self-report identified misbeha
 viour to the prosecuting authorities? In which instances should an inves
 tigation be conducted internally by the company and what are the reasons
  to involve an external counsel? What kind of new obligations will be pu
 t on companies in the light of the new whistleblowing legislation? What 
 should be taken into consideration to protect the internal investigation
 s results before a decision has been taken on what to do with the result
 s of the investigation? Are there any "golden rules" on how to conduct c
 orporate investigations? Many questions to be discussed by investigation
  lawyers and companies.
LOCATION:Room 209\, Level 2
UID:72184a1f-17b8-4d76-8278-22346a172e4a
END:VEVENT
END:VCALENDAR
