BEGIN:VCALENDAR
PRODID:-//Session events Calendar//IBA//EN
CALSCALE:GREGORIAN
VERSION:2.0
BEGIN:VEVENT
DTSTAMP:20260422T015905Z
DTSTART:20221031T183000Z
DTEND:20221031T213000Z
SUMMARY:Interactive mock boardroom crisis – do’s and don’ts when a corrup
 tion issue arises
DESCRIPTION:It’s the day you dread as General Counsel of a PLC. Your comp
 liance officer in an overseas office rings you to tell you she thinks so
 me employees have been paying bribes. What should you do? How do you man
 age an investigation with issues in several countries? Things couldn’t g
 et worse\, when you get a call from a journalist asking questions. And t
 hen\, the overseas office is raided by law enforcement. The scenario wil
 l unfold through an interactive multi-media session and you\, the audien
 ce\, will be the board – it’s up to you to decide what to do at each sta
 ge. You will be guided by a panel of expert investigations lawyers who c
 an provide advice and insight from their experience across jurisdictions
 \, but the ultimate decision-making will rest with you!
LOCATION:Room 229 A\, Level 2
UID:fa5b17e5-dc2a-4cd0-a6e6-a2db4c25fd78
END:VEVENT
END:VCALENDAR
