BEGIN:VCALENDAR
PRODID:-//Session events Calendar//IBA//EN
CALSCALE:GREGORIAN
VERSION:2.0
BEGIN:VEVENT
DTSTAMP:20260422T015951Z
DTSTART:20221101T151500Z
DTEND:20221101T163000Z
SUMMARY:Fear the Twitter and watch the Insta! Emerging commercial opportu
 nities and regulatory risks as securities markets participants\, regulat
 ors and digital influencers converge on social media
DESCRIPTION:As the use of social media as a means of communication on the
  securities markets is increasing\, it continues to impose challenges fo
 r market participants and regulators who must abide by and enforce rules
  that were written with print media in mind. Simultaneously\, social med
 ia is less costly\, instantaneous and easily accessed\, providing almost
  infinite possibilities for marketing\, information sharing and investor
  relations.\n\nThis session discusses how financial regulation and the r
 egulation of securities offerings has evolved in the face of the growing
  use of social media by issuers\, investors\, broker-dealers and interme
 diaries\, and what more can market participants and regulators do to eff
 iciently but fairly harness the power of social media.\n
LOCATION:Room 232\, Level 2
UID:f7ff00fa-f317-4c8f-acbc-a439c072227f
END:VEVENT
END:VCALENDAR
