BEGIN:VCALENDAR
PRODID:-//Session events Calendar//IBA//EN
CALSCALE:GREGORIAN
VERSION:2.0
BEGIN:VEVENT
DTSTAMP:20260422T015951Z
DTSTART:20221031T201500Z
DTEND:20221031T213000Z
SUMMARY:Hitting the moving target: cyber\, data privacy and artificial in
 telligence (AI) compliance and governance
DESCRIPTION:Cybersecurity\, data privacy and artificial intelligence are 
 all over the news these days. Incidents are frequent and regulations evo
 lve rapidly.\nHow should companies that do business internationally trac
 k developments\, and what is the organisational and compliance standard 
 that stakeholders may expect? Is compliance with the rules sufficient to
  avoid reputational harm and - if not - how do you deal with this aspect
 ?\n\n\nThis session aims at providing practical insights on how global o
 rganizations may structure their governance programs - to ensure complia
 nce with laws\, to deal with incidents\, and incorporating elements that
  hopefully reduce reputational risk.\n
LOCATION:Room 206\, Level 2
UID:aa70653c-3025-4109-9b91-1e22c6890636
END:VEVENT
END:VCALENDAR
