BEGIN:VCALENDAR
PRODID:-//Session events Calendar//IBA//EN
CALSCALE:GREGORIAN
VERSION:2.0
BEGIN:VEVENT
DTSTAMP:20260422T015951Z
DTSTART:20221102T201500Z
DTEND:20221102T213000Z
SUMMARY:Emerging risks\, including Covid-19’s impact on insurers/reinsure
 rs and policyholders
DESCRIPTION:The world has been turned upside down by Covid and other new 
 risks. The insurance community is always directly affected by new and un
 expected risks. This was demonstrated by the issues resulting from Covid
  and other risks that have come to the fore in the past year. This sessi
 on will look at the issues in direct and reinsurance related to these em
 erging and emerged risks.
LOCATION:Room 208\, Level 2
UID:30863c59-ab26-423e-9c30-39bbee78d0ab
END:VEVENT
END:VCALENDAR
