BEGIN:VCALENDAR
PRODID:-//Session events Calendar//IBA//EN
CALSCALE:GREGORIAN
VERSION:2.0
BEGIN:VEVENT
DTSTAMP:20260422T015904Z
DTSTART:20221031T201500Z
DTEND:20221031T213000Z
SUMMARY:Intermediaries and distribution: evolving industry developments a
 nd changing duties
DESCRIPTION:The role of the intermediary is critical to the distribution 
 and placement of insurance. That role includes acting for insureds as we
 ll as at times acting for insurers. The intermediary function can lead t
 o disputes on duties\, authorities\, and conflicts. This session will ex
 amine these questions and consider the expected evolution of the interme
 diary's role.
LOCATION:Room 211\, Level 2
UID:add29e57-dd5c-418f-87a0-f9b8e7e7932a
END:VEVENT
END:VCALENDAR
