BEGIN:VCALENDAR
PRODID:-//Session events Calendar//IBA//EN
CALSCALE:GREGORIAN
VERSION:2.0
BEGIN:VEVENT
DTSTAMP:20260422T015952Z
DTSTART:20221103T201500Z
DTEND:20221103T213000Z
SUMMARY:SUSTAINABILITY FOCUS: To disclose or not to disclose ESG: are ESG
  public disclosures even a choice anymore given the prevailing regulator
 y trends and institutional investors’ demands?
DESCRIPTION:SustainabilityFocusPressure continues to mount on companies a
 round the world to make Environmental\, Social and Governance disclosure
 . Major institutional investors are taking a principled stand against co
 mpanies that provide insufficient ESG disclosures and regulators across 
 the globe are increasingly making adequate annual ESG disclosures mandat
 ory. This session will explore emerging trends in ESG disclosure as well
  as the related risks and opportunities.\n\nSUSTAINABILITY FOCUS session
 s marked as such are part of the IBA Annual Conference 2022 sustainabili
 ty focus on Tuesday and Thursday\, grouping sessions discussing differen
 t aspects of ESG and sustainability across the different legal fields.\n
 
LOCATION:Room 209\, Level 2
UID:a3ed96ed-facd-43c0-828b-25043c74817a
END:VEVENT
END:VCALENDAR
