BEGIN:VCALENDAR
PRODID:-//Session events Calendar//IBA//EN
CALSCALE:GREGORIAN
VERSION:2.0
BEGIN:VEVENT
DTSTAMP:20260422T020923Z
DTSTART:20221103T183000Z
DTEND:20221103T194500Z
SUMMARY:SUSTAINABILITY FOCUS  ESG and asset management: latest developmen
 ts
DESCRIPTION:SustainabilityFocusIn this session we will look at the follow
 ing three aspects:\n\n- Sustainable Finance Disclosure Regulation (SFDR)
  in Europe and next deadlines: introduction of Taxonomy Regulations in f
 ull\, as well as SFDR 2\, in 2022\;\n\n- US progress in ESG and catching
  up with the EU\; and\n\n- ESG data – the key challenge for compliance a
 nd howdevelopment finance institutions (DFI) are helping champion ESG in
 to the mainstream.\n\nSUSTAINABILITY FOCUS sessions marked as such are p
 art of the IBA Annual Conference 2022 sustainability focus on Tuesday an
 d Thursday\, grouping sessions discussing different aspects of ESG and s
 ustainability across the different legal fields.\n
LOCATION:Rooms 230-231\, Level 2
UID:a264fb8f-27a7-4527-9275-a8706a621232
END:VEVENT
END:VCALENDAR
