BEGIN:VCALENDAR
PRODID:-//Session events Calendar//IBA//EN
CALSCALE:GREGORIAN
VERSION:2.0
BEGIN:VEVENT
DTSTAMP:20260422T033523Z
DTSTART:20221102T183000Z
DTEND:20221102T194500Z
SUMMARY:Current hot topics in asset management
DESCRIPTION:This session will look at the following four aspects of asset
  management:\n\n- trends in private equity: evolution of secondary trans
 actions (general partner (GP)-led or otherwise) and continuation funds -
  focus of regulators\;\n\n- Alternative Investment Fund Managers Directi
 ve (AIFMD) review: the latest position\;\n\n- crypto - will the latest v
 olatility lead to a co-ordinated approach to regulation in this area\; a
 nd\n\n- asset classes: is the potential slowdown going to show us a diff
 erent asset class for limited partnership (LP)fundraising?\n
LOCATION:Room 210\, Level 2
UID:cfcc72e0-be99-4d5a-bf1e-bc076ec024e6
END:VEVENT
END:VCALENDAR
