BEGIN:VCALENDAR
PRODID:-//Session events Calendar//IBA//EN
CALSCALE:GREGORIAN
VERSION:2.0
BEGIN:VEVENT
DTSTAMP:20260422T015955Z
DTSTART:20221102T133000Z
DTEND:20221102T144500Z
SUMMARY:Digitally transforming our law firms: inspiration for small to me
 dium sized firms
DESCRIPTION:The way legal services are provided continues to be reshaped 
 by the evolution and innovation in the digital and technological spheres
 . Lawyers are undergoing a so-called digital transformation and are face
 d with myriad options when it comes to choosing or developing appropriat
 e technological tools not only for providing legal services to their cli
 ents but also for managing their own firms. \nTime and experience contin
 ue to show that there is no ‘one-size-fits-all’ solution to law firms wh
 en making their technological choices as they undergo this digital trans
 formation. This session will explore the experience of small/medium size
 d law firms in this regard to give insight into the challenges and oppor
 tunities this process entails.
LOCATION:Room 206\, Level 2
UID:3d9d2224-bcdd-4a61-9178-d2cdca96aa7e
END:VEVENT
END:VCALENDAR
