BEGIN:VCALENDAR
PRODID:-//Session events Calendar//IBA//EN
CALSCALE:GREGORIAN
VERSION:2.0
BEGIN:VEVENT
DTSTAMP:20260422T033522Z
DTSTART:20221031T151500Z
DTEND:20221031T163000Z
SUMMARY:Reversing the Rule of Law deficit in Europe: how commercial law f
 irms can help
DESCRIPTION:RuleOfLawThe Rule of Law is vital in the European Union - one
  of the fundamental values upon which the E.U. is based. But lately it h
 as been threatened by many events.\nWhat role can commercial law firms p
 lay in supporting the Rule of Law in wider civil society? If you are a l
 awyer working for corporates\, have you ever experienced the emerging ne
 ed to address Rule of Law issues from the aspect of your client?\n\nThis
  area may be very new and at some points scary for lawyers not trained a
 nd used to work with individuals\, not being used to addressing Rule of 
 Law issue and not being close to human right issues in their daily work.
 \n\nThe panel in this session will discuss the Rule of Law related journ
 ey of commercial law firms working in the business and corporate environ
 ment\, you may find out that you deal with human rights issues even if y
 ou have never thought about it that way\, we will have an interesting in
 sight to the approach of the United Nations and we will set the picture 
 for the near future with an aim to help commercial law firms moving forw
 ard on this journey.\n
LOCATION:Room 233\, Level 2
UID:25d26fd6-ba73-40cb-86bf-09b5245fac34
END:VEVENT
END:VCALENDAR
