BEGIN:VCALENDAR
PRODID:-//Session events Calendar//IBA//EN
CALSCALE:GREGORIAN
VERSION:2.0
BEGIN:VEVENT
DTSTAMP:20260422T015903Z
DTSTART:20221103T151500Z
DTEND:20221103T163000Z
SUMMARY:Conflicts between regional courts and national courts/governments
 
DESCRIPTION:HumanRightsConflicts between regional courts and national cou
 rts/governments (eg the recent Alex Saab extradition case involving Cape
  Verde and the ECOWAS court) and government failures to comply with the 
 judgements of regional courts like the African Court on Human and People
 s' Rights and the (now neutered) SADC Tribunal – this has potential impl
 ications for the AfCFTA.
LOCATION:Room 229 A\, Level 2
UID:1623c633-d8d3-4902-aacd-c2890f29b4d1
END:VEVENT
END:VCALENDAR
