BEGIN:VCALENDAR
PRODID:-//Session events Calendar//IBA//EN
CALSCALE:GREGORIAN
VERSION:2.0
BEGIN:VEVENT
DTSTAMP:20260422T015905Z
DTSTART:20221102T151500Z
DTEND:20221102T163000Z
SUMMARY:Alternative career paths for corporate lawyers
DESCRIPTION:Not always talented corporate counsels will have the possibil
 ity to achieve a continuous career development within a legal department
  that may not have enough senior roles for them to move up into. The ses
 sion will address the possibility for alternative career paths within a 
 company or in law firms and how to build them. Furthermore\, if you are 
 a GC: what's next?
LOCATION:Room 209 Level 2
UID:9f4518ac-24b7-44d1-872c-5fd4ec459602
END:VEVENT
END:VCALENDAR
