BEGIN:VCALENDAR
PRODID:-//Session events Calendar//IBA//EN
CALSCALE:GREGORIAN
VERSION:2.0
BEGIN:VEVENT
DTSTAMP:20260422T015905Z
DTSTART:20221031T183000Z
DTEND:20221031T194500Z
SUMMARY:Commercial real estate women
DESCRIPTION:Real estate industry representatives and lawyers from various
  jurisdictions will discuss interesting topics\, including:\n\n\n	Barrie
 rs and challenges that women face in the commercial real estate market c
 areer\n	Mentoring and networking development are key issues for success?
 \n	Positive impacts on having a gender balanced environment in the real 
 estate transactions and market\n	C-level role models and how to follow i
 n their footsteps\n	Post-covid homeschooling and homeworking period\n	Ga
 ins in the hybrid workplace – redesigning commercial spaces and gender b
 alance positive effects\n\n
LOCATION:Room 207\, Level 2
UID:947aa62f-b226-4ba1-a2bf-f646a835f61d
END:VEVENT
END:VCALENDAR
