BEGIN:VCALENDAR
PRODID:-//Session events Calendar//IBA//EN
CALSCALE:GREGORIAN
VERSION:2.0
BEGIN:VEVENT
DTSTAMP:20260422T015906Z
DTSTART:20221102T133000Z
DTEND:20221102T144500Z
SUMMARY:The future trends for real estate in the post-pandemic world
DESCRIPTION:Real estate industry representatives and lawyers from various
  jurisdictions will discuss the future trends and tools for real estate 
 in a post-pandemic world\, including:\n\n\n	Tokenization of real estate 
 projects and commercialization through crypto currencies.\n	Metaverse as
  a new submarket in the global real estate market? What are the real per
 spectives for this incipient new world?\n	Suburban vs urban areas\n	Conv
 ersion of downtown areas (former office areas) into residential areas\n	
 What to bear in mind in new office developments. Lessons learned from th
 e pandemic\n	New trends in the residential market\; Co-living &amp\; sha
 ring tendency that emerges in follow-up of the co-working\, analyzed fro
 m a leisure/hospitality perspective\n	Hotels’ new developments and trend
 s\n	Shopping centers vs. strip stores vs. online commerce.\n	\n\n
LOCATION:Room 234\, Level 2
UID:665ac095-d40e-45ff-ba3f-2d5f8cbb0ba8
END:VEVENT
END:VCALENDAR
