BEGIN:VCALENDAR
PRODID:-//Session events Calendar//IBA//EN
CALSCALE:GREGORIAN
VERSION:2.0
BEGIN:VEVENT
DTSTAMP:20260422T033522Z
DTSTART:20221102T183000Z
DTEND:20221102T194500Z
SUMMARY:Trends in aviation litigation – insurance issues\, jurisdiction\,
  MAX and other major causalities\, preemption update
DESCRIPTION:The discussion will evaluate the latest trends in aviation li
 tigation emerged with regard to insurance issues\, the matter of jurisdi
 ction and the developments occurred with regard to major casualties\, in
 cluding the Boeing 737 Max litigation and the interpretation of preempti
 on clauses.
LOCATION:Rooms 233\, Level 2
UID:915af14b-9bb4-4aad-a8fa-9cc5b945debf
END:VEVENT
END:VCALENDAR
