BEGIN:VCALENDAR
PRODID:-//Session events Calendar//IBA//EN
CALSCALE:GREGORIAN
VERSION:2.0
BEGIN:VEVENT
DTSTAMP:20260422T015904Z
DTSTART:20221101T201500Z
DTEND:20221101T213000Z
SUMMARY:SUSTAINABILITY FOCUS  The path to sustainable aviation
DESCRIPTION:SustainabilityFocusThe discussion will cover the different ap
 proaches to the issue of sustainability in aviation (e.g. flight ban for
  domestic flights and governments’ incentives for purchase and use of SA
 F)\, investigating their impact on the reduction of CO2 in the sector an
 d evaluating the strategies to which the aviation industry reacts with m
 ore participation. The topic will also address the relevance of new tech
 nologies to promote sustainability\, including the most virtuous applica
 tions of Unmanned Aircraft Systems in recent years and the future of ver
 tiplanes.\n\nSUSTAINABILITY FOCUS sessions marked as such are part of th
 e IBA Annual Conference 2022 sustainability focus on Tuesday and Thursda
 y\, grouping sessions discussing different aspects of ESG and sustainabi
 lity across the different legal fields.\n
LOCATION:Room 235\, Level 2
UID:7537e31e-21ce-4f61-a267-edb40643f22a
END:VEVENT
END:VCALENDAR
