BEGIN:VCALENDAR
PRODID:-//Session events Calendar//IBA//EN
CALSCALE:GREGORIAN
VERSION:2.0
BEGIN:VEVENT
DTSTAMP:20260422T015955Z
DTSTART:20221102T151500Z
DTEND:20221102T163000Z
SUMMARY:Containers rule the world
DESCRIPTION:The session will address different legal and practical aspect
 s of containers\, such as:\n\n\n	Demurrage and detention\n	The shortage 
 of container and how to overcome it\n	Safety issues and different types 
 of containers\n	Challenges concerning pre- and on-carriage / intermodali
 ty\n\n
LOCATION:Rooms 201-202\, Level 2
UID:10f079a9-38d9-4fca-bada-79f99680a4e4
END:VEVENT
END:VCALENDAR
