BEGIN:VCALENDAR
PRODID:-//Session events Calendar//IBA//EN
CALSCALE:GREGORIAN
VERSION:2.0
BEGIN:VEVENT
DTSTAMP:20260422T015951Z
DTSTART:20221103T151500Z
DTEND:20221103T163000Z
SUMMARY:US offshore wind - how to navigate the Jones Act for foreign and 
 domestic players
DESCRIPTION:The growing US offshore wind market attracts the interest of 
 international players\, but what are the Jones Act implications? Most in
 stallation vessels are foreign flagged and how are the players of the in
 dustry dealing with this?
LOCATION:Room 206\, Level 2
UID:c04c4763-7da5-4534-b928-9acb73a96a15
END:VEVENT
END:VCALENDAR
