BEGIN:VCALENDAR
PRODID:-//Session events Calendar//IBA//EN
CALSCALE:GREGORIAN
VERSION:2.0
BEGIN:VEVENT
DTSTAMP:20260422T015952Z
DTSTART:20221031T151500Z
DTEND:20221031T163000Z
SUMMARY:Hot topics in shipping
DESCRIPTION:We will be returning to our popular hot topics session to fea
 ture issues that are topical at the time of the Miami conference. Topics
  may include: cyber security in the shipping industry and risk managemen
 t of same\, the current sanction regimes\, recent highlights in courts o
 r new important legislation in different jurisdictions\; and/or focus on
  specific shipping sectors such as cruise industry which is very importa
 nt in Miami. This session’s speakers will largely be drawn from younger 
 and/or newer members of the IBA Maritime and Transport Law Committee\, t
 aking advantage of the opportunity to introduce them to other Committee 
 members.
LOCATION:Room 208\, Level 2
UID:9e103668-1289-4387-82eb-623dc9404e5b
END:VEVENT
END:VCALENDAR
