BEGIN:VCALENDAR
PRODID:-//Session events Calendar//IBA//EN
CALSCALE:GREGORIAN
VERSION:2.0
BEGIN:VEVENT
DTSTAMP:20260422T015954Z
DTSTART:20221101T133000Z
DTEND:20221101T144500Z
SUMMARY:Prosecuting illegal gambling in an international context: legal a
 nd enforcement challenges and remedies
DESCRIPTION:Without any unified international legislation with respect to
  what constitutes “legal gambling” the prosecution of such activities is
  a matter for each individual jurisdiction. The digitalisation of the of
 fer\, which enables these services to be provided in any jurisdiction\, 
 from any jurisdiction\, has compounded the difficulties for national pro
 secutors in terms of prosecuting these activities. These issues are also
  paramount to legal operators\, which can see their turnover greatly imp
 acted by the offering of illegal gambling\, and players who may be at ri
 sk of compromising their funds\, their personal data and even of unknowi
 ngly collaborating with criminal organisations. However\, some recent ex
 amples of a desire for more co-operation between national prosecutors an
 d regulators may be one of the keys to a more efficient and successful p
 rosecution. The session will also address the perspectives of prosecutor
 s\, regulators\, operators and players.
LOCATION:Room 234\, Level 2
UID:7eebb219-db0b-4c82-a1b9-d355e96fede7
END:VEVENT
END:VCALENDAR
