BEGIN:VCALENDAR
PRODID:-//Session events Calendar//IBA//EN
CALSCALE:GREGORIAN
VERSION:2.0
BEGIN:VEVENT
DTSTAMP:20260422T015952Z
DTSTART:20221103T133000Z
DTEND:20221103T144500Z
SUMMARY:Key considerations in hotel acquisitions – a comparative view
DESCRIPTION:The session will examine the common considerations in hotel a
 cquisition transactions on a cross-jurisdictional basis. In addition\, t
 he session will discuss some key elements and pit falls to consider in s
 elect jurisdictions. Generally\, the session will focus on the potential
  considerations of a target hospitality operating asset that may arise o
 r continue between signing and closing and how such considerations\, ris
 ks and liabilities should be addressed by potential buyers and sellers i
 n drafting the PSA\; including governing brand relationships (management
  and franchise)\, employment considerations\, underlying asset real esta
 te considerations\; mixed use and common area considerations\, pre-exist
 ing liability\, physical structural maintenance and repair issues\, gues
 t data protection exposure and intellectual property considerations.
LOCATION:Room 206\, Level 2
UID:d036079a-4ac7-44b4-9ef4-66a6027915e7
END:VEVENT
END:VCALENDAR
