BEGIN:VCALENDAR
PRODID:-//Session events Calendar//IBA//EN
CALSCALE:GREGORIAN
VERSION:2.0
BEGIN:VEVENT
DTSTAMP:20260422T015905Z
DTSTART:20221102T133000Z
DTEND:20221102T144500Z
SUMMARY:Insolvencies in the airline industry
DESCRIPTION:Navigating Headwinds - the airline industry faces numerous cy
 clical pressures to its business model. These pressures were exacerbated
  by the Covid pandemic\, and may be exacerbated further by geo-political
  unrest and the consequential impacts on airlines\, lessors\, internatio
 nal routes and fuel prices. The panel will discuss how certain airlines 
 have transformed and restructured their businesses in various jurisdicti
 ons (both in and out of court)\, as well the tools available for future 
 restructurings.
LOCATION:Room 236\, Level 2
UID:16adf57b-ba15-4532-9ebd-b5fe9367ca22
END:VEVENT
END:VCALENDAR
