BEGIN:VCALENDAR
PRODID:-//Session events Calendar//IBA//EN
CALSCALE:GREGORIAN
VERSION:2.0
BEGIN:VEVENT
DTSTAMP:20260422T020853Z
DTSTART:20221103T183000Z
DTEND:20221103T194500Z
SUMMARY:Multinational LATAM companies in distress: Chapter 11 or Chapter 
 15 of US Bankruptcy Code - opportunities and pitfalls
DESCRIPTION:In the last years\, we have seen several Latin American compa
 nies filing for Chapter 11 in United States instead of filing for reorga
 nization in their own countries and then seeking protection in the US un
 der Chapter 15. This panel will address the reasons for such trends\, fo
 cusing on the advantages and disadvantages of each of such strategies (C
 hapter 11 vs. Chapter 15)\, as well as on cultural matters. We shall als
 o explore the different nature of the Latam multinationals’ equity compo
 sition\, normally with a strong controlling shareholder\, vis-à-vis the 
 traditional US debtor and how the absolute priority rule may (or may not
 ) influence the decision on where to file. 
LOCATION:Room 209\, Level 2
UID:5f8889cb-0c28-489e-82be-28d7cf772715
END:VEVENT
END:VCALENDAR
