BEGIN:VCALENDAR
PRODID:-//Session events Calendar//IBA//EN
CALSCALE:GREGORIAN
VERSION:2.0
BEGIN:VEVENT
DTSTAMP:20260422T033528Z
DTSTART:20221101T183000Z
DTEND:20221101T194500Z
SUMMARY:Distressed M&A and pre packs from a buyer’s perspective
DESCRIPTION:A panel discussion on the opportunities and pitfalls faced by
  a buyer in making an offer in a pre-pack sale. This session will cover 
 practical aspects to be considered by the buyer\, such as valuation\, pr
 icing\, employees and insolvency procedural issues depending on the juri
 sdiction. The panel will also address whether buyers should consider tak
 ing on board fund managers in distressed asset acquisitions.
LOCATION:Room 206
UID:ad2b5292-cec4-4643-ba24-a27ac4ea5f6a
END:VEVENT
END:VCALENDAR
