BEGIN:VCALENDAR
PRODID:-//Session events Calendar//IBA//EN
CALSCALE:GREGORIAN
VERSION:2.0
BEGIN:VEVENT
DTSTAMP:20260422T020007Z
DTSTART:20221031T201500Z
DTEND:20221031T213000Z
SUMMARY:Challenges in digital asset tracing and the effect of UNCITRAL
DESCRIPTION:Tracing digital assets can be challenging to the insolvency a
 nd credit enforcement practitioner. In cross-border situations\, asset t
 racing is even more challenging because each jurisdiction has its own so
 urce of laws\, information and tools that must be understood by the inso
 lvency practitioner or representative. UNCITRAL Working Group V has star
 ted a project which may provide recommendations and the European Union i
 s considering developing an instrument regarding asset tracing. This ses
 sion will focus on the tools the insolvency practitioner needs in this r
 espect in order to recover assets of the debtor.
LOCATION:Room 207\, Level 2
UID:05e03531-81fb-42d5-ab21-11b59462ae16
END:VEVENT
END:VCALENDAR
