BEGIN:VCALENDAR
PRODID:-//Session events Calendar//IBA//EN
CALSCALE:GREGORIAN
VERSION:2.0
BEGIN:VEVENT
DTSTAMP:20260422T033527Z
DTSTART:20221102T183000Z
DTEND:20221102T194500Z
SUMMARY:Minority investments: trends and concepts to balance the interest
 s
DESCRIPTION:Minority investments are common as a financing source for com
 panies or to establish strategic partnerships. Minority investors need t
 o secure sufficient rights to safeguard the value of their participation
  such as governance rights\, anti-dilution and top-up protections\, and\
 , last but not least\, exit rights. The panel will focus on tactics and 
 strategies to balance the interests of investors as well as current tren
 ds and innovations. Cross-border deals will be covered with case studies
 .\n
LOCATION:Room 229 B\, Level 2
UID:556ea958-0634-4810-9fbd-dee6657cab62
END:VEVENT
END:VCALENDAR
