BEGIN:VCALENDAR
PRODID:-//Session events Calendar//IBA//EN
CALSCALE:GREGORIAN
VERSION:2.0
BEGIN:VEVENT
DTSTAMP:20260422T033532Z
DTSTART:20221103T201500Z
DTEND:20221103T213000Z
SUMMARY:Corporate governance in private companies: the pitfalls of poor p
 ractices and the benefits of well-structured governance
DESCRIPTION:For start-ups and family businesses\, establishing a professi
 onalized board and other aspects of corporate governance tend to be far 
 down the priority list. And yet\, several experiences have demonstrated 
 that investing in good governance is crucial for long-term success of no
 n-listed companies. In this panel we will examine the advantages of adop
 ting good corporate governance for private companies and the main risks 
 associated with inertia\, with a close look to the key issues that any p
 rivate company should consider when structuring its governance\, alongsi
 de with the new trends in legislation.
LOCATION:Rooms 230-231\, Level 2
UID:5a156f82-6ce9-44c7-a335-1ff9ee438dcb
END:VEVENT
END:VCALENDAR
